BEGIN:VCALENDAR
VERSION:2.0
PRODID:-//Alexandra Mascolo-David - ECPv6.15.20//NONSGML v1.0//EN
CALSCALE:GREGORIAN
METHOD:PUBLISH
X-WR-CALNAME:Alexandra Mascolo-David
X-ORIGINAL-URL:https://mascolodavid.com
X-WR-CALDESC:Events for Alexandra Mascolo-David
REFRESH-INTERVAL;VALUE=DURATION:PT1H
X-Robots-Tag:noindex
X-PUBLISHED-TTL:PT1H
BEGIN:VTIMEZONE
TZID:UTC
BEGIN:STANDARD
TZOFFSETFROM:+0000
TZOFFSETTO:+0000
TZNAME:UTC
DTSTART:20150101T000000
END:STANDARD
END:VTIMEZONE
BEGIN:VEVENT
DTSTART;TZID=UTC:20170319T140000
DTEND;TZID=UTC:20170319T140000
DTSTAMP:20260423T105726
CREATED:20160922T213142Z
LAST-MODIFIED:20160922T213142Z
UID:259-1489932000-1489932000@mascolodavid.com
SUMMARY:Recital with Alicia Valoti\, viola
DESCRIPTION:Music by: \nItalian composer Lino Liviabella (Sonata No. 1 for Viola and Piano) \nJohannes Brahms (Two Lieder Op. 91 for Viola and Voice ) – with mezzo-soprano Tracy Watson \n 
URL:https://mascolodavid.com/event/recital-with-alicia-valoti-viola/
LOCATION:Staples Family Concert Hall\, Central Michigan University\, Music Building\, 1400 East Campus Drive\, Mount Pleasant\, MI\, 48859\, United States
END:VEVENT
BEGIN:VEVENT
DTSTART;TZID=UTC:20170221T193000
DTEND;TZID=UTC:20170221T193000
DTSTAMP:20260423T105726
CREATED:20160922T201704Z
LAST-MODIFIED:20160922T205509Z
UID:248-1487705400-1487705400@mascolodavid.com
SUMMARY:WORLD PREMIERE of David Maslanka's Concerto No. 3 for piano and Wind Ensemble
DESCRIPTION:My collaboration with David Maslanka dates back several years\, when I performed and recorded (for Albany records) his Piano Concerto No. 1 for Piano and Wind Ensemble with the Illinois State Wind Symphony\, directed by Stephen K. Steele. The concerto’s difficulty and wild virtuosity intimidated me at first\, but I decide to take on the challenge! The road to the live performance and recording sessions was tortuous\, but in the end\, we succeeded\, resulting in a rewarding and valuable experience. (For additional information on Concerto No. 1\, please click on: David Maslanka Piano Concertos Nos. 1 and 2) \nMotivated by that first experience\, I subsequently approached David Maslanka about the possibility of writing a new concerto for piano and wind symphony\, but in a “calmer” style than that first one. According to the composer\, the new concerto “… moves between a very interior quality and explosiveness\, finally settling in a very quiet internal space. It seems like several movements packed together into one […] This piece was not easy to write. There are new things here for me. I feel like a transition is happening to yet another quality of expression. My music\, yes\, but new.” \nThe Concerto No. 3 was commissioned as a consortium. The world premiere will take place here at Central Michigan University\, with CMU’s Symphonic Wind Ensemble\, under the direction of John. E. Williamson. \n  \n 
URL:https://mascolodavid.com/event/world-premiere-of-david-maslankas-concerto-no-3-for-piano-and-wind-ensemble/
LOCATION:Staples Family Concert Hall\, Central Michigan University\, Music Building\, 1400 East Campus Drive\, Mount Pleasant\, MI\, 48859\, United States
END:VEVENT
BEGIN:VEVENT
DTSTART;TZID=UTC:20161111T090000
DTEND;TZID=UTC:20161111T120000
DTSTAMP:20260423T105726
CREATED:20160922T205154Z
LAST-MODIFIED:20160922T205625Z
UID:251-1478854800-1478865600@mascolodavid.com
SUMMARY:November Workshop to the Piano Teachers' Forum of Grand Rapids\, MI
DESCRIPTION:The November Workshop that I will give to the Piano Teachers’ Forum of Grand Rapids will feature 3 different Sessions: \nSession 1 – 9:00 AM: “My Experience With the Taubman Approach to Piano Technique” \nSession 2 – 10 AM: “Performance Anxiety Management” \nSession 3 – 11 AM: Master Class (advanced students). Repertoire TBD. \nFor additional information\, please visit: Individual Session Information \n  \n 
URL:https://mascolodavid.com/event/november-workshop-to-the-piano-teachers-forum-of-grand-rapids-mi/
END:VEVENT
END:VCALENDAR